BEGIN:VCALENDAR
VERSION:2.0
PRODID:-//ChamberMaster//Event Calendar 2.0//EN
METHOD:PUBLISH
X-PUBLISHED-TTL:P3D
REFRESH-INTERVAL:P3D
CALSCALE:GREGORIAN
BEGIN:VEVENT
DTSTART:20191027T000000Z
DTEND:20191027T040000Z
X-MICROSOFT-CDO-ALLDAYEVENT:FALSE
SUMMARY:A True American Haunt-Birth of a Nightmare
DESCRIPTION:Habitat for Humanity of Fairfield County is taking a supernatural approach to raise funds for local housing initiatives. A True American Haunt - Birth of a Nightmare is an immersive haunt experience that allows thrill seekers to navigate the historic and chilling Miller Building with profits supporting Habitat home builds.\n\nThe story behind A True American Haunt: Birth of a Nightmare pays homage to the historic building that serves as its stage. The Miller Building\, which was recently acquired by Habitat\, was built in 1828 and served as an infirmary or "poor house" for more than 150 years. Thought to be one of the most haunted locations in central Ohio\, its paranormal halls have captured the attention of paranormal activity observers including The Travel Channel (who recently filmed an episode of their new show "Destination Fear" which is a spin-off of Ghost Adventures)\, Arch City Paranormal\, Resident Undead and Paranormal Patrol.\n\nThe Haunt's creative themes were conceptualized and brought to life by an experienced team with an extensive background in creating bone-chilling haunts. Creators include multi Emmy-award winning Hollywood make-up artist\, Silvina Knight\, whose credits include American Horror Story\, among many others.
X-ALT-DESC;FMTTYPE=text/html:<span style="font-family:arial\,sans-serif\;">Habitat for Humanity of Fairfield County is taking a supernatural approach to raise funds for local housing initiatives. <em>A True American Haunt - Birth of a Nightmare</em> is an immersive haunt experience that allows thrill seekers to navigate the historic and chilling Miller Building with profits supporting Habitat home builds.</span><br />\n<span style="font-family:arial\,sans-serif\;">The story behind <em>A True American Haunt: Birth of a Nightmare</em> pays homage to the historic building that serves as its stage. <strong><span style="border:none windowtext 1.0pt\;padding:0in\;"><span style="font-family:arial\,sans-serif\;">The Miller Building</span></span></strong>\, which was recently acquired by Habitat\, was built in 1828 and served as an infirmary or &ldquo\;poor house&rdquo\; for more than 150 years. Thought to be one of the most haunted locations in central Ohio\, its paranormal halls have captured the attention of paranormal activity observers including The Travel Channel (who recently filmed an episode of their new show &quot\;Destination Fear&quot\; which is a spin-off of Ghost Adventures)\, Arch City Paranormal\, Resident Undead and Paranormal Patrol.<br />\nThe Haunt&rsquo\;s creative themes were conceptualized and</span>&nbsp\;brought to life by&nbsp\;an experienced team with an extensive background in creating bone-chilling haunts. Creators include multi Emmy-award winning Hollywood make-up artist\, Silvina Knight\, whose credits include <em>American</em><em> Horror Story</em>\, among many others.<br />\n&nbsp\;
LOCATION:The Miller Building 1587 Granville Pike Lancaster\, Ohio 43130
UID:e.3121.373
SEQUENCE:3
DTSTAMP:20260424T064004Z
URL:https://business.lancoc.org/events/details/a-true-american-haunt-birth-of-a-nightmare-373
END:VEVENT

END:VCALENDAR
