BEGIN:VCALENDAR
VERSION:2.0
PRODID:-//ChamberMaster//Event Calendar 2.0//EN
METHOD:PUBLISH
X-PUBLISHED-TTL:P3D
REFRESH-INTERVAL:P3D
CALSCALE:GREGORIAN
BEGIN:VEVENT
DTSTART:20200418T230000Z
DTEND:20200419T010000Z
X-MICROSOFT-CDO-ALLDAYEVENT:FALSE
SUMMARY:A Decade of Song and Celebration
DESCRIPTION:Ohio University Lancaster Theatre will celebrate its 10th Anniversary under the direction of A. Victor Jones with a look back at some of the memorable moments on the Wagner Theatre stage.
X-ALT-DESC;FMTTYPE=text/html:Ohio University Lancaster Theatre will celebrate its 10th Anniversary under the direction of A. Victor Jones with a look back at some of the memorable moments on the Wagner Theatre stage.
LOCATION:Ohio University Lancaster Theatre 1570 Granville Pike\, Lancaster\, Ohio
UID:e.3121.425
SEQUENCE:3
DTSTAMP:20260423T191724Z
URL:https://business.lancoc.org/events/details/a-decade-of-song-and-celebration-425
END:VEVENT

END:VCALENDAR
