BEGIN:VCALENDAR
VERSION:2.0
PRODID:-//ChamberMaster//Event Calendar 2.0//EN
METHOD:PUBLISH
X-PUBLISHED-TTL:P3D
REFRESH-INTERVAL:P3D
CALSCALE:GREGORIAN
BEGIN:VEVENT
DTSTART:20210717T160000Z
DTEND:20210717T200000Z
X-MICROSOFT-CDO-ALLDAYEVENT:FALSE
SUMMARY:90.9 The River's Lancaster Family Fun Fest
DESCRIPTION:You've been stuck inside with your family for the past year and we want to shake up the routine with a chance to spend quality time with your family outside\, with all the fun and excitement we've been missing! Come by the River Lancaster Family Fun Fest\, presented by The Richards Group of Thrivent\, on July 17th from12-4 for an outdoor concert with River artist Stars Go Dim\, presented by Matt Taylor Kia\, games\, food\, and fun! This free event is located at Alley Park in Lancaster. Our kids Play Zone is sponsored by Batteries Unlimited.
X-ALT-DESC;FMTTYPE=text/html:<span style="font-family: &quot\;Open Sans&quot\;\; font-size: 16px\; text-align: center\; background-color: rgb(255\, 255\, 255)\;">You&rsquo\;ve been stuck inside with your family for the past year and we want to shake up the routine with a chance to spend quality time with your family outside\, with all the fun and excitement we&rsquo\;ve been missing! Come by the River Lancaster Family Fun Fest\, presented by The Richards Group of Thrivent\, on July 17th from12-4 for an outdoor concert with River artist Stars Go Dim\, presented by Matt Taylor Kia\, games\, food\, and fun! This free event is located at Alley Park in Lancaster. Our kids Play Zone is sponsored by Batteries Unlimited.</span>
LOCATION:Alley Park 2805 Old Logan Rd SE\, Lancaster\, OH 43130
UID:e.3121.619
SEQUENCE:3
DTSTAMP:20260422T110348Z
URL:https://business.lancoc.org/events/details/90-9-the-river-s-lancaster-family-fun-fest-619
END:VEVENT

END:VCALENDAR
