BEGIN:VCALENDAR
VERSION:2.0
PRODID:-//ChamberMaster//Event Calendar 2.0//EN
METHOD:PUBLISH
X-PUBLISHED-TTL:P3D
REFRESH-INTERVAL:P3D
CALSCALE:GREGORIAN
BEGIN:VEVENT
DTSTART:20260520T220000Z
DTEND:20260520T233000Z
X-MICROSOFT-CDO-ALLDAYEVENT:FALSE
SUMMARY:2026 YPFC Little Night Out with Big Brothers/Big Sisters of Southeastern Ohio
DESCRIPTION:Little Night Out with Big Brothers/Big Sisters of Southeastern Ohio\n\n\n\nWhen:\n\nWednesday\, May 20\n\n6:00 p.m. - 7:30 p.m.\n\n\n\nLocation:\n\nTBA\n\n\n\nRegistrations Close Monday\, May 18 at 4 p.m.
X-ALT-DESC;FMTTYPE=text/html:<p style="margin: 0px\; padding: 0px\; color: rgb(48\, 48\, 48)\; white-space-collapse: preserve\; text-align: center\;"><font face="arial"><span style="font-size: 16px\;"><b>Little Night Out with Big Brothers/Big Sisters of Southeastern Ohio</b></span></font></p>\n\n<div style="text-align: center\;"><br />\n<span style="font-family:arial\;"><span style="font-size:16px\;"><u><strong>When:</strong></u><br />\nWednesday\, May 20<br />\n6:00 p.m. - 7:30 p.m.<br />\n<br />\n<u><strong>Location:</strong></u><br />\nTBA<br />\n<br />\n<u>Registrations Close Monday\, May 18 at 4 p.m.</u></span></span></div>\n
LOCATION:TBA
UID:e.3121.1272
SEQUENCE:3
DTSTAMP:20260422T183654Z
URL:https://business.lancoc.org/events/details/2026-ypfc-little-night-out-with-big-brothers-big-sisters-of-southeastern-ohio-1272
END:VEVENT

END:VCALENDAR
