BEGIN:VCALENDAR
VERSION:2.0
PRODID:-//ChamberMaster//Event Calendar 2.0//EN
METHOD:PUBLISH
X-PUBLISHED-TTL:P3D
REFRESH-INTERVAL:P3D
CALSCALE:GREGORIAN
BEGIN:VEVENT
DTSTART:20250807T213000Z
DTEND:20250808T003000Z
X-MICROSOFT-CDO-ALLDAYEVENT:FALSE
SUMMARY:2025 ATHENA Awards Banquet
DESCRIPTION:2025 ATHENA Awards Banquet\n\nRecognizing women leaders in Lancaster & Fairfield County\n\n\n\nThursday\, Aug. 7\n\nThe Mill Event Center\n\n431 S. Columbus St.\, Lancaster\n\nRegistration & Cocktail Hour: 5:30 p.m.\n\nDinner: 6:15 p.m.\n\nDinner Menu:\n\nFresh Tossed Garden Salad\, Ranch/Italian Dressing\n\nItalian Herb Grilled Chicken Breast\, Fresh Herbs\, Dusting of Parmesan\n\nGluten Free/Vegetarian/Vegan Option: Vegetable Marinara Pasta Bake\n\nSteamed Vegetable Medley\n\nGarlic Smashed Red Skinned Potatoes\n\nHomemade Fruit Pies\n\nProgram: 7 p.m.\n\nAdjourn: 7:30 p.m.\n\n\n\nRegistrations Close Wednesday\, July 30 at 12 p.m.\n\n\n\n# # #\n\n\n\nClick HERE to submit a nomination for the 2025 ATHENA Leadership Award. Nominations are due by Friday\, June 6 at 4 p.m.\n\n\n\n# # #\n\nAbout the ATHENA Awards Banquet:\n\nEach year\, the Lancaster Fairfield County Chamber of Commerce has the honor of recognizing female leaders in our community. Robert D. McGraw helped start the annual tradition in 1985. Since then\, the McGraw family has continued their support of the ATHENA Leadership Award\, recognizing outstanding female leaders in Lancaster and Fairfield County.
X-ALT-DESC;FMTTYPE=text/html:<p style="white-space-collapse: preserve\; margin: 0px\; padding: 0px\; color: rgb(0\, 0\, 0)\; font-family: Calibri\; font-size: 12px\; background-color: rgb(254\, 255\, 248)\; text-align: center\;"><br />\n<span style="font-family:arial\;"><span style="color: rgb(0\, 0\, 51)\;"><span style="font-size: 16px\;"><strong>2025 ATHENA Awards Banquet</strong><br />\n<em>Recognizing women leaders in Lancaster &amp\; Fairfield County</em></span></span><br />\n<br />\n<span style="color: rgb(0\, 0\, 51)\;"><span style="font-size: 16px\;"><strong>Thursday\, Aug. 7<br />\nThe Mill Event Center</strong><br />\n431 S. Columbus St.\, Lancaster<br />\nRegistration &amp\; Cocktail Hour: 5:30 p.m.<br />\nDinner: 6:15 p.m.<br />\n<span style="font-size:12px\;"><strong>Dinner Menu:</strong></span></span></span></span><br />\n<span style="font-size:12px\;"><span style="color: rgb(0\, 0\, 51)\; font-family: arial\; text-align: center\; white-space-collapse: preserve\; background-color: rgb(254\, 255\, 248)\;">Fresh Tossed Garden Salad\, Ranch/Italian Dressing</span></span><br />\n<span style="font-family:arial\;"><span style="color: rgb(0\, 0\, 51)\;"><span style="font-size: 16px\;"><span style="font-size:12px\;">Italian Herb Grilled Chicken Breast\, Fresh Herbs\, Dusting of Parmesan<br />\nGluten Free/Vegetarian/Vegan Option: Vegetable Marinara Pasta Bake<br />\nSteamed Vegetable Medley<br />\nGarlic Smashed Red Skinned Potatoes<br />\nHomemade Fruit Pies</span><br />\nProgram: 7 p.m.<br />\nAdjourn: 7:30 p.m.</span></span><br />\n<br />\n<span style="color:#ff6600\;"><span style="font-size: 16px\;"><em><strong>Registrations Close Wednesday\, July 30 at 12 p.m.</strong></em></span></span><br />\n<br />\n<span style="color: rgb(0\, 0\, 51)\;"><span style="font-size: 16px\;"># # #<br />\n<br />\nClick </span></span><span style="font-size: 16px\;"><strong><a href="https://www.lancoc.org/athena/"><span style="color:#ff6600\;">HERE</span></a></strong></span><span style="color: rgb(0\, 0\, 51)\;"><span style="font-size: 16px\;"> to submit a nomination for the 2025 ATHENA Leadership Award. Nominations are due by Friday\, June 6 at 4 p.m.</span></span><br />\n<br />\n<span style="font-size:16px\;"><span style="font-style:inherit\;font-variant:inherit\;font-weight:inherit\;font-stretch:inherit\;font-optical-sizing:inherit\;font-kerning:inherit\;font-feature-settings:inherit\;font-variation-settings:inherit\;"><span style="border:none windowtext 1.0pt\;padding:0in\;"><span style="color:#242424\;"># # #</span></span></span></span><br />\n<span style="color: rgb(0\, 0\, 51)\;"><span style="font-size: 16px\;"><u><strong>About the ATHENA Awards Banquet:</strong></u><br />\nEach year\, the Lancaster Fairfield County Chamber of Commerce has the honor of recognizing female leaders in our community. Robert D. McGraw helped start the annual tradition in 1985. Since then\, the McGraw family has continued their support of the ATHENA Leadership Award\, recognizing outstanding female leaders in Lancaster and Fairfield County.</span></span></span><br />\n&nbsp\;</p>\n
LOCATION:The Mill Event Center 431 S. Columbus St.\, Lancaster
UID:e.3121.1128
SEQUENCE:3
DTSTAMP:20260424T010046Z
URL:https://business.lancoc.org/events/details/2025-athena-awards-banquet-1128
END:VEVENT

END:VCALENDAR
