BEGIN:VCALENDAR
VERSION:2.0
PRODID:-//ChamberMaster//Event Calendar 2.0//EN
METHOD:PUBLISH
X-PUBLISHED-TTL:P3D
REFRESH-INTERVAL:P3D
CALSCALE:GREGORIAN
BEGIN:VEVENT
DTSTART:20240222T163000Z
DTEND:20240222T180000Z
X-MICROSOFT-CDO-ALLDAYEVENT:FALSE
SUMMARY:2024 DEIB Training Series - Part 1
DESCRIPTION:Lancaster Fairfield County Chamber of Commerce DEIB Training Series\n\n\n\nTo create a more inclusive business community\, the Lancaster Fairfield County Chamber of Commerce presents a three-part series of Diversity\, Equity\, Inclusion\, and Belonging (DEIB) training for members. This series is open to all Chamber members and the community. Sessions will focus on understanding and operationalizing DEIB as a business strategy\, including within areas of compliance and strategic vision.\n\n\n\nThese interactive discussions will focus on developing skills\, abilities\, and knowledge to use immediately within your business\, as well as understanding how to identify your current needs for ongoing DEIB business strategy development.\n\n\n\nPart 1: The Why - Understand the Power of DEIB as a Business Strategy\n\n\n\nWhether you are for-profit or not\, understanding how the power of individual diversity can be included within an organization's business framework allows for maximum return on your investment in your "people".  This class will teach you the fundamentals of DEIB as a business strategy and how it directly contributes to the success of your business's overall objectives and mission. After this session\, you will have mastery of basic terms\, concepts\, and a framework for integration of DEIB within your current organizational business model.\n\n \nAdditional DEIB Training Series sessions:\n\nPart 2  |  Part 3
X-ALT-DESC;FMTTYPE=text/html:<strong><u>Lancaster Fairfield County Chamber of Commerce DEIB Training Series</u></strong><br />\n<br />\nTo create a more inclusive business community\, the Lancaster Fairfield County Chamber of Commerce presents a three-part series of Diversity\, Equity\, Inclusion\, and Belonging (DEIB) training for members. This series is open to all Chamber members and the community. Sessions will focus on understanding and operationalizing DEIB as a business strategy\, including within areas of compliance and strategic vision.<br />\n<br />\nThese interactive discussions will focus on developing skills\, abilities\, and knowledge to use immediately within your business\, as well as understanding how to identify your current needs for ongoing DEIB business strategy development.<br />\n<br />\n<strong><u>Part 1: The Why - Understand the Power of DEIB as a Business Strategy</u></strong><br />\n<br />\nWhether you are for-profit or not\, understanding how the power of individual diversity can be included within an organization&rsquo\;s business framework allows for maximum return on your investment in your &ldquo\;people&rdquo\;.&nbsp\; This class will teach you the fundamentals of DEIB as a business strategy and how it directly contributes to the success of your business&rsquo\;s overall objectives and mission. After this session\, you will have mastery of basic terms\, concepts\, and a framework for integration of DEIB within your current organizational business model.<br />\n&nbsp\;\n<div style="text-align: center\;"><strong>Additional DEIB Training Series sessions:</strong></div>\n\n<div style="text-align: center\;"><strong><a href="https://www.lancoc.org/events/details/2024-deib-training-series-part-2-967">Part 2</a></strong>&nbsp\; |&nbsp\; <strong><a href="https://www.lancoc.org/events/details/2024-deib-training-series-part-3-968">Part 3</a></strong>&nbsp\;</div>\n
LOCATION:Fairfield County Ag Center 831 College Ave.\, Lancaster
UID:e.3121.966
SEQUENCE:3
DTSTAMP:20260422T220706Z
URL:https://business.lancoc.org/events/details/2024-deib-training-series-part-1-966
END:VEVENT

END:VCALENDAR
