BEGIN:VCALENDAR
VERSION:2.0
PRODID:-//ChamberMaster//Event Calendar 2.0//EN
METHOD:PUBLISH
X-PUBLISHED-TTL:P3D
REFRESH-INTERVAL:P3D
CALSCALE:GREGORIAN
BEGIN:VEVENT
DTSTART:20231116T163000Z
DTEND:20231116T180000Z
X-MICROSOFT-CDO-ALLDAYEVENT:FALSE
SUMMARY:2023 Small Business University - SOCA and Strategic HR Benefits
DESCRIPTION:Chamber membership not required to attend!\n\n\n\nLearn about the SOCA Benefit Plan and Strategic HR benefits available to you as a member of the Lancaster Fairfield County Chamber of Commerce!\n\n\n\nAre you a small business owner looking to add health benefits to your offerings\, or need assistance with human resource needs? This is the Small Business University for you. Our guest speakers will present on the SOCA Benefit Plan\, available to small businesses with fewer than 50 employees\, as well as the services available to small businesses through Strategic HR. \n\n\n\nPresenters:\n\nWill Roberts - Relationship Manager\, Sothern Ohio Chamber Alliance\n\nJeff Metzger - Insurance Agent\, MMA Insurance\n\nBecky Foster - Senior HR Business Strategist\, Strategic HR\n\n\n\nNetworking and Lunch: 11:30 a.m.\n\nPresentation: Noon to 1 p.m.\n\nCost: $20\n\n\n\nRegistration closes Monday\, Nov. 13 at 4 p.m.
X-ALT-DESC;FMTTYPE=text/html:<span style="font-size:16px\;"><b>Chamber membership not required to attend!</b><br />\n<br />\nLearn about the SOCA Benefit Plan and Strategic HR benefits available to you as a member of the Lancaster Fairfield County Chamber of Commerce!<br />\n<br />\nAre you a small business owner looking to add health benefits to your offerings\, or need assistance with human resource needs? This is the Small Business University for you. Our guest speakers will present on the SOCA Benefit Plan\, available to small businesses with fewer than 50 employees\, as well as the services available to small businesses through Strategic HR.&nbsp\;<br />\n<br />\n<u><strong>Presenters:</strong></u><br />\nWill Roberts - Relationship Manager\, Sothern Ohio Chamber Alliance<br />\nJeff Metzger - Insurance Agent\, MMA Insurance<br />\nBecky Foster - Senior HR Business Strategist\, Strategic HR<br />\n<br />\n<u><strong>Networking and Lunch:</strong></u> 11:30 a.m.<br />\n<u><strong>Presentation:</strong></u> Noon to 1 p.m.<br />\n<b><u>Cost:</u></b>&nbsp\;$20<br />\n<br />\nRegistration closes Monday\, Nov. 13 at 4 p.m.</span>
LOCATION:Fairfield County Ag Center 831 College Ave. Lancaster
UID:e.3121.832
SEQUENCE:3
DTSTAMP:20260422T000629Z
URL:https://business.lancoc.org/events/details/2023-small-business-university-soca-and-strategic-hr-benefits-832
END:VEVENT

END:VCALENDAR
