BEGIN:VCALENDAR
VERSION:2.0
PRODID:-//ChamberMaster//Event Calendar 2.0//EN
METHOD:PUBLISH
X-PUBLISHED-TTL:P3D
REFRESH-INTERVAL:P3D
CALSCALE:GREGORIAN
BEGIN:VEVENT
DTSTART:20231003T153000Z
DTEND:20231003T170000Z
X-MICROSOFT-CDO-ALLDAYEVENT:FALSE
SUMMARY:2023 Rivet Society - Lunch at Alley Park
DESCRIPTION:The Leader Within: Discovering Ours \n\nPresented by Dr. Cassie Barlow\, President\, Strategic Ohio Council for Higher Education and former Commander\, Wright-Patterson Air Force Base\n\nTuesday\, Oct. 3\n\n11:30 a.m.\n\nRegistration & Soup/Salad Bar \n\nNoon   1 p.m.\n\nPresentation \n\nGoslin Nature Center\, Alley Park\n\nPlease RSVP by Thursday\, Sept. 27
X-ALT-DESC;FMTTYPE=text/html:<p align="center" class="Pa0" style="text-align:center"><span style="font-family:times new roman\;"><b><span style="font-size:\n16.0pt">The Leader Within: Discovering Ours</span></b><span class="A1"><b><span style="font-size:14.0pt"> </span></b></span></span><span class="A1"><b><span style="font-size:14.0pt"><o:p></o:p></span></b></span></p>\n\n<p align="center" class="Pa0" style="text-align:center"><span style="font-family:times new roman\;"><span style="font-size:16px\;"><span class="A1">Presented by Dr. Cassie Barlow\, President\, Strategic Ohio Council for Higher Education and former Commander\, Wright-Patterson Air Force Base</span></span></span><span style="font-size:10.0pt"><o:p></o:p></span></p>\n\n<p align="center" class="Pa0" style="text-align:center"><span style="font-family:times new roman\;"><span class="A0"><span style="font-size:18.0pt">Tuesday\, Oct. 3</span></span></span><span style="font-size:18.0pt\;color:#57585A"><o:p></o:p></span></p>\n\n<p align="center" class="Pa0" style="text-align:center"><span style="font-family:times new roman\;"><span style="font-size:18px\;"><b><span style="color: rgb(87\, 88\, 90)\;">11:30 a.m.<br />\nRegistration &amp\; Soup/Salad Bar </span></b></span></span><span style="font-size:11.5pt\;color:#57585A"><o:p></o:p></span></p>\n\n<p align="center" class="Pa0" style="text-align:center"><span style="font-family:times new roman\;"><span style="font-size:18px\;"><b><span style="color: rgb(87\, 88\, 90)\;">Noon &ndash\; 1 p.m.<br />\nPresentation </span></b></span></span><span style="font-size:\n11.5pt\;color:#57585A"><o:p></o:p></span></p>\n\n<p align="center" class="Pa0" style="text-align:center"><span style="font-family:times new roman\;"><span style="font-size:18px\;"><span class="A3">Goslin Nature Center\, Alley Park</span></span></span><span style="font-size:9.0pt\;font-family:&quot\;Gotham Book&quot\;\;color:#57585A"><o:p></o:p></span></p>\n\n<p align="center" class="Pa0" style="text-align:center"><span style="font-family:times new roman\;"><span style="font-size:18px\;"><span class="A1"><b>Please RSVP </b>by Thursday\, Sept.&nbsp\;27</span></span></span><span style="font-size:10.0pt\;font-family:&quot\;Gotham Book&quot\;\;color:#57585A"><o:p></o:p></span></p>\n
LOCATION:Goslin Nature Center - Alley Park 2805 Old Logan Road Lancaster\, OH 43130
UID:e.3121.858
SEQUENCE:3
DTSTAMP:20260423T055000Z
URL:https://business.lancoc.org/events/details/2023-rivet-society-lunch-at-alley-park-858
END:VEVENT

END:VCALENDAR
