BEGIN:VCALENDAR
VERSION:2.0
PRODID:-//ChamberMaster//Event Calendar 2.0//EN
METHOD:PUBLISH
X-PUBLISHED-TTL:P3D
REFRESH-INTERVAL:P3D
CALSCALE:GREGORIAN
BEGIN:VEVENT
DTSTART:20231005T203000Z
DTEND:20231005T223000Z
X-MICROSOFT-CDO-ALLDAYEVENT:FALSE
SUMMARY:2023 DEIB Happy Hour
DESCRIPTION:Network with fellow Chamber members and learn about DEIB initiatives during the DEIB Committee's first Happy Hour on Thursday\, Oct. 5!\n\n\n\nThe event takes place at Outerbelt Brewing in Carroll from 4:30 to 6:30 p.m. Registration closes Monday\, Oct. 2.\n\n\n\nThe DEIB Committee is the newest initiative from the Lancaster Fairfield County Chamber of Commerce. DEIB stands for "Diversity\, Equity\, Inclusion\, and Belonging\," aligning with the Chamber's mission to create a prosperous business environment that enhances life in our region. \n\n\n\nMeet members of the Chamber's DEIB Committee and learn about projects and initiatives that are taking shape in our community!
X-ALT-DESC;FMTTYPE=text/html:<span style="font-size:18px\;">Network with fellow Chamber members and learn about DEIB initiatives during the DEIB Committee&#39\;s first Happy Hour on Thursday\, Oct. 5!<br />\n<br />\nThe event takes place at Outerbelt Brewing in Carroll from 4:30 to 6:30 p.m. Registration closes Monday\, Oct. 2.<br />\n<br />\nThe DEIB Committee is the newest initiative from the Lancaster Fairfield County Chamber of Commerce. DEIB stands for &quot\;Diversity\, Equity\, Inclusion\, and Belonging\,&quot\; aligning with the Chamber&#39\;s mission to create a prosperous business environment that enhances life in our region.&nbsp\;<br />\n<br />\nMeet members of the Chamber&#39\;s DEIB Committee and learn about projects and initiatives that are taking shape in our community!</span>
LOCATION:Outerbelt Brewing 3560 Dolson Court\, Carroll
UID:e.3121.888
SEQUENCE:3
DTSTAMP:20260423T054311Z
URL:https://business.lancoc.org/events/details/2023-deib-happy-hour-888
END:VEVENT

END:VCALENDAR
