BEGIN:VCALENDAR
VERSION:2.0
PRODID:-//ChamberMaster//Event Calendar 2.0//EN
METHOD:PUBLISH
X-PUBLISHED-TTL:P3D
REFRESH-INTERVAL:P3D
CALSCALE:GREGORIAN
BEGIN:VEVENT
DTSTART:20220224T123000Z
DTEND:20220224T143000Z
X-MICROSOFT-CDO-ALLDAYEVENT:FALSE
SUMMARY:2022 State of the City Address
DESCRIPTION:Join us for an Update on the City of Lancaster.\nREGISTRATION FOR THIS EVENT HAS CLOSED.
X-ALT-DESC;FMTTYPE=text/html:<h1><span style="font-size:18px\;"><span style="color:#0E165F\;">Join us for an Update on the City of Lancaster.</span></span></h1>\n<span style="color:#cc0033\;"><strong><em>REGISTRATION FOR THIS EVENT HAS CLOSED.</em></strong></span>
LOCATION:Crossroads Event Center 2095 West Fair Avenue Lancaster
UID:e.3121.738
SEQUENCE:3
DTSTAMP:20260420T001647Z
URL:https://business.lancoc.org/events/details/2022-state-of-the-city-address-738
END:VEVENT

END:VCALENDAR
