BEGIN:VCALENDAR
VERSION:2.0
PRODID:-//ChamberMaster//Event Calendar 2.0//EN
METHOD:PUBLISH
X-PUBLISHED-TTL:P3D
REFRESH-INTERVAL:P3D
CALSCALE:GREGORIAN
BEGIN:VEVENT
DTSTART:20220518T210000Z
DTEND:20220518T230000Z
X-MICROSOFT-CDO-ALLDAYEVENT:FALSE
SUMMARY:2022 State of the Center
DESCRIPTION:State of the Center
X-ALT-DESC;FMTTYPE=text/html:State of the Center
LOCATION:Fairfield Medical Center-River Valley Campus 2384 N. Memorial Drive Lancaster\, Ohio 43130
UID:e.3121.778
SEQUENCE:3
DTSTAMP:20260424T125050Z
URL:https://business.lancoc.org/events/details/2022-state-of-the-center-778
END:VEVENT

END:VCALENDAR
