BEGIN:VCALENDAR
VERSION:2.0
PRODID:-//ChamberMaster//Event Calendar 2.0//EN
METHOD:PUBLISH
X-PUBLISHED-TTL:P3D
REFRESH-INTERVAL:P3D
CALSCALE:GREGORIAN
BEGIN:VEVENT
DTSTART:20220303T163000Z
DTEND:20220303T180000Z
X-MICROSOFT-CDO-ALLDAYEVENT:FALSE
SUMMARY:2022 Small Business University - Hot Topics in HR
DESCRIPTION:As part of the Chamber's annual strategic plan\, we are investing in value added training and programing for our members. The hiring of Strategic HR Business Advisors is intended to provide critical information to our members regarding the ever-evolving realm of Human Resources.\n\n\n\nBy attending\, you will learn about and gain knowledge on:\n\n\n	COVID-19 - How it has changed the landscape of HR\, what businesses need to be doing\, regulations on testing and vaccines\n	Handbook updates - what policies need to be added\n	Recruiting - What recruiting looks like now\n	Workforce (and policy) work from home vs. working in the office\n\nThose in attendance will have the opportunity to schedule a one-on-one virtual session on March 8 with an HR professional from Strategic HR Business Advisors to further dive into questions or topics related directly to your business. Contact the Chamber to schedule a time.
X-ALT-DESC;FMTTYPE=text/html:<p class="Default"><span style="font-size:18px\;">As part of the Chamber&rsquo\;s annual strategic plan\, we are investing in value added training and programing for our members. The hiring of Strategic HR Business Advisors is intended to provide critical&nbsp\;information to our members regarding the ever-evolving realm of Human Resources.<br />\n<br />\nBy attending\, you will learn about and gain knowledge on:</span></p>\n\n<ul>\n	<li><span style="font-size:18px\;">COVID-19 - How it has changed the landscape of HR\, what businesses need to be doing\, regulations on testing and vaccines</span></li>\n	<li><span style="font-size:18px\;">Handbook updates - what policies need to be added</span></li>\n	<li><span style="font-size:18px\;">Recruiting - What recruiting looks like now</span></li>\n	<li><span style="font-size:18px\;">Workforce (and policy) work from home vs. working in the office</span></li>\n</ul>\n<span style="font-size:14px\;"><em>Those in attendance will have the opportunity to schedule a one-on-one virtual session on March 8 with an HR professional from Strategic HR Business Advisors to further dive into questions or topics related directly to your business. Contact the Chamber to schedule a time.</em></span>\n\n<p class="Default"><span style="font-size:11.5pt\;color:#212121"><o:p></o:p></span></p>\n
LOCATION:Fairfield County Fairgrounds Ricketts Hall (Ed Sands Building) 157 E. Fair Ave. Lancaster\, Ohio 43130
UID:e.3121.764
SEQUENCE:3
DTSTAMP:20260419T204840Z
URL:https://business.lancoc.org/events/details/2022-small-business-university-hot-topics-in-hr-764
END:VEVENT

END:VCALENDAR
