BEGIN:VCALENDAR
VERSION:2.0
PRODID:-//ChamberMaster//Event Calendar 2.0//EN
METHOD:PUBLISH
X-PUBLISHED-TTL:P3D
REFRESH-INTERVAL:P3D
CALSCALE:GREGORIAN
BEGIN:VEVENT
DTSTART:20220329T200000Z
DTEND:20220329T220000Z
X-MICROSOFT-CDO-ALLDAYEVENT:FALSE
SUMMARY:2022 After-Biz Meet & Greet - Double Edge Brewing Co.
DESCRIPTION:Join fellow Chamber of Commerce members for a fun\, casual evening of drinks\, free appetizers\, and networking.\n\nThis event is free to chamber members - registration is required by Thursday\, March 24 at 4 p.m.\n\nSponsored by Park National Bank
X-ALT-DESC;FMTTYPE=text/html:<p><span style="font-size:18px\;">Join fellow Chamber of Commerce members for a fun\, casual evening of drinks\, free appetizers\, and networking.</span></p>\n\n<p><span style="font-size:18px\;">This event is free to chamber members - registration is required by Thursday\, March 24 at 4 p.m.</span></p>\n\n<p><span style="font-size:18px\;"><em>Sponsored by Park National Bank</em></span></p>\n
LOCATION:Double Edge Brewing Co. 158 W. Chestnut St.\, Lancaster
UID:e.3121.773
SEQUENCE:3
DTSTAMP:20260419T203212Z
URL:https://business.lancoc.org/events/details/2022-after-biz-meet-greet-double-edge-brewing-co-773
END:VEVENT

END:VCALENDAR
