BEGIN:VCALENDAR
VERSION:2.0
PRODID:-//ChamberMaster//Event Calendar 2.0//EN
METHOD:PUBLISH
X-PUBLISHED-TTL:P3D
REFRESH-INTERVAL:P3D
CALSCALE:GREGORIAN
BEGIN:VEVENT
DTSTART:20210415T153000Z
DTEND:20210415T170000Z
X-MICROSOFT-CDO-ALLDAYEVENT:FALSE
SUMMARY:2021 State of the Schools - VIRTUAL EVENT
DESCRIPTION:Join us for an update on local schools.  This year's presentation will be virtual with a link being distributed via social networks and the Chamber's contact database prior to the event.
X-ALT-DESC;FMTTYPE=text/html:<p><span style="font-size:16px\;"><span style="color:#0E165F\;">Join us for an update on local schools.&nbsp\; This year&#39\;s presentation will be virtual with a link being distributed via social networks and the Chamber&#39\;s contact database prior to the event.</span></span></p>\n
LOCATION:This year's presentation will be virtual with a link being distributed via social networks and the Chamber's contact database prior to the event.
UID:e.3121.491
SEQUENCE:3
DTSTAMP:20260422T163222Z
URL:https://business.lancoc.org/events/details/2021-state-of-the-schools-virtual-event-491
END:VEVENT

END:VCALENDAR
