BEGIN:VCALENDAR
VERSION:2.0
PRODID:-//ChamberMaster//Event Calendar 2.0//EN
METHOD:PUBLISH
X-PUBLISHED-TTL:P3D
REFRESH-INTERVAL:P3D
CALSCALE:GREGORIAN
BEGIN:VEVENT
DTSTART:20210225T130000Z
DTEND:20210225T143000Z
X-MICROSOFT-CDO-ALLDAYEVENT:FALSE
SUMMARY:2021 State of the City - VIRTUAL EVENT
DESCRIPTION:Join us February 25th at 8:00 a.m. for a video presentation of the 2021 State of the City Address.  This year's presentation will feature a brief update from Mayor David Scheffler and a video tour of several city departments\, operations and facilities.   A video link will be distributed prior to the event via social networks and the Chamber's contact database.
X-ALT-DESC;FMTTYPE=text/html:<h1><span style="font-size:16px\;"><span style="color:#0E165F\;">Join us February 25th at 8:00 a.m. for a video presentation of the 2021 State of the City Address.&nbsp\; This year&#39\;s presentation will feature a brief update from Mayor David Scheffler and a video tour of several city departments\, operations and facilities. &nbsp\; A video link will be distributed prior to the event via social networks and the Chamber&#39\;s contact database. </span></span></h1>\n
LOCATION:Located in the comfort of your own office or home.
UID:e.3121.490
SEQUENCE:3
DTSTAMP:20260422T221017Z
URL:https://business.lancoc.org/events/details/2021-state-of-the-city-virtual-event-490
END:VEVENT

END:VCALENDAR
