BEGIN:VCALENDAR
VERSION:2.0
PRODID:-//ChamberMaster//Event Calendar 2.0//EN
METHOD:PUBLISH
X-PUBLISHED-TTL:P3D
REFRESH-INTERVAL:P3D
CALSCALE:GREGORIAN
BEGIN:VEVENT
DTSTART:20210928T153000Z
DTEND:20210928T170000Z
X-MICROSOFT-CDO-ALLDAYEVENT:FALSE
SUMMARY:2021 State of Fairfield County Address
DESCRIPTION:2021 State of the County Address\n\nFairfield Forward\n\n\nPresented by:\n  Dr. Carri Brown\, County Administrator\n\n  Dave Levacy\, County Commissioner\n\n  Steve Davis\, County Commissioner\n\n  Jeff Fix\, County Commissioner\n\n\n\nAttendees will enjoy:\n  Highlights about the State of the County\n\n  Videos of Updates\n\n  Lunch catered by Provisions\n\n  Dessert by Reynoldsburg Nothing Bundt Cakes\n\n\n\nIn order to allow for social distancing\, seating in the main room will be first come first serve\,\n\nwith overflow in the theatre.\n\n\n\nIf you are unable to attend\, you will have the option to watch the presentation live using the link HERE.
X-ALT-DESC;FMTTYPE=text/html:<div style="text-align: center\;"><strong>2021 State of the County Address</strong><br />\n<strong>Fairfield Forward</strong></div>\n<br />\nPresented by:\n<div>&bull\;<span style="white-space:pre"> Dr. Carri Brown</span>\, County Administrator</div>\n\n<div>&bull\;<span style="white-space:pre"> </span>Dave Levacy\, County Commissioner</div>\n\n<div>&bull\;<span style="white-space:pre"> </span>Steve Davis\, County Commissioner</div>\n\n<div>&bull\;<span style="white-space:pre"> </span>Jeff Fix\, County Commissioner<br />\n<br />\nAttendees will enjoy:\n<div>&bull\;<span style="white-space:pre"> </span>Highlights about the State of the County</div>\n\n<div>&bull\;<span style="white-space:pre"> </span>Videos of Updates</div>\n\n<div>&bull\;<span style="white-space:pre"> </span>Lunch catered by Provisions</div>\n\n<div>&bull\;<span style="white-space:pre"> </span>Dessert by Reynoldsburg Nothing Bundt Cakes<br />\n<br />\n<em>In order to allow for social distancing\, seating in the main room will be first come first serve\,<br />\nwith overflow in the theatre.</em><br />\n<br />\nIf you are unable to attend\, you will have the option&nbsp\;to watch the presentation live using the link <a href="https://boxcast.tv/view/2021-state-of-fairfield-county-749698">HERE</a><em>.</em></div>\n</div>\n
LOCATION:The Wigwam 10190 Blacklick Eastern Road Pickerington\, OH 43147 *Those coming from Lancaster should allow 30+ minutes for travel time
UID:e.3121.673
SEQUENCE:3
DTSTAMP:20260420T073406Z
URL:https://business.lancoc.org/events/details/2021-state-of-fairfield-county-address-673
END:VEVENT

END:VCALENDAR
