BEGIN:VCALENDAR
VERSION:2.0
PRODID:-//ChamberMaster//Event Calendar 2.0//EN
METHOD:PUBLISH
X-PUBLISHED-TTL:P3D
REFRESH-INTERVAL:P3D
CALSCALE:GREGORIAN
BEGIN:VEVENT
DTSTART:20210916T200000Z
DTEND:20210917T000000Z
X-MICROSOFT-CDO-ALLDAYEVENT:FALSE
SUMMARY:2021 Chamber of Commerce Annual Dinner & Trade Show - ChamberFest!
DESCRIPTION:ChamberFest!\n\n2021 Chamber of Commerce Annual Dinner and Trade Show\n\n\n\n\nIn lieu of a traditional awards ceremony\, we will celebrate our members\n\npersevering through this past year!\n \n\nThis outdoor celebration will feature our annual trade show\, live entertainment\, food\, beverages and more!\n\n\n\nYou can join us on Thursday\, September 16th\, 2021\, anytime between 4 - 8 pm\,\n\nwith a brief program beginning at 5 pm.\n\n\n\nThis year\, the event will take place at the Lower Parking Lot\n\nof Ohio University - Lancaster.\n\n \n\nThis is a ticketed event\, pre-registration is required.\n\nNo tickets will be sold onsite.\n\n\n\nThe Deadline for Trade Show Reservation is September 9th.\n\nThe Deadline for Annual Dinner tickets is September 10th.\n\nThe Deadline for Admission to Only the Trade Show is September 15th\n\n\n\nStill have questions about the event? \n\nRead our ChamberFest FAQ \n\ninfo sheet HERE
X-ALT-DESC;FMTTYPE=text/html:<div style="text-align: center\;"><strong><span style="font-size:16px\;">ChamberFest!<br />\n2021 Chamber of Commerce Annual Dinner and Trade Show</span></strong></div>\n\n<div>\n<div style="text-align: center\;"><br />\n<span style="font-size:16px\;">In lieu of a traditional awards ceremony\, we will celebrate our members<br />\npersevering through this past year!</span></div>\n&nbsp\;\n\n<div style="text-align: center\;"><span style="font-size:16px\;">This outdoor celebration&nbsp\;will feature our annual trade show\, live entertainment\, food\, beverages and more!<br />\n<br />\nYou can join us on Thursday\, September 16th\, 2021\, anytime between 4 - 8 pm\,<br />\nwith a brief program beginning at 5 pm.<br />\n<br />\nThis year\, the event will take place at the&nbsp\;Lower Parking Lot<br />\nof&nbsp\;Ohio University - Lancaster.</span></div>\n\n<div style="text-align: center\;">&nbsp\;</div>\n\n<div style="text-align: center\;"><span style="font-size:16px\;"><span background-color:="" font-size:="" style="color: rgb(51\, 51\, 51)\; font-family: sans-serif\, Arial\, Verdana\, " trebuchet="">This is a ticketed event\, pre-registration is required.</span><br font-size:="" style="color: rgb(51\, 51\, 51)\; font-family: sans-serif\, Arial\, Verdana\, " trebuchet="" />\n<em font-size:="" style="color: rgb(51\, 51\, 51)\; font-family: sans-serif\, Arial\, Verdana\, " trebuchet="">No tickets will be sold onsite</em>.</span><br />\n<br />\n<span style="color:#3366ff\;">The Deadline for Trade Show Reservation is September 9th.<br />\nThe Deadline for Annual Dinner tickets is September 10th.<br />\nThe Deadline for Admission to Only&nbsp\;the Trade Show is September 15th</span><br />\n<br />\n<span style="font-size:16px\;">Still have questions about the event?&nbsp\;<br />\nRead our ChamberFest FAQ&nbsp\;<br />\ninfo sheet <a href="https://chambermaster.blob.core.windows.net/userfiles/UserFiles/chambers/3121/File/FAQChamberFest.pdf">HERE</a></span></div>\n</div>\n
LOCATION:Ohio University-Lancaster Parking Lot 1570 Granville Pike\, Lancaster\, OH 43130
UID:e.3121.495
SEQUENCE:3
DTSTAMP:20260420T072826Z
URL:https://business.lancoc.org/events/details/2021-chamber-of-commerce-annual-dinner-trade-show-chamberfest-495
END:VEVENT

END:VCALENDAR
