BEGIN:VCALENDAR
VERSION:2.0
PRODID:-//ChamberMaster//Event Calendar 2.0//EN
METHOD:PUBLISH
X-PUBLISHED-TTL:P3D
REFRESH-INTERVAL:P3D
CALSCALE:GREGORIAN
BEGIN:VEVENT
DTSTART:20211214T140000Z
DTEND:20211214T150000Z
X-MICROSOFT-CDO-ALLDAYEVENT:FALSE
SUMMARY:2021 Annual Board Meeting: Member Invitation
DESCRIPTION:Please Join Us at the Board of Directors' Final Meeting of 2021\n\nJoin us as we cover the regular agenda of the Chamber board meeting including the slate of board members and the appointment of officers for 2022.  Lite breakfast fare will be provided.
X-ALT-DESC;FMTTYPE=text/html:<span style="font-size:18px\;"><strong>Please Join Us at the Board of Directors&#39\; Final Meeting of 2021</strong></span><br />\n<span style="font-size:18px\;">Join us as we cover the regular agenda of the Chamber board meeting including the slate of board members and the appointment of officers for 2022.&nbsp\; Lite breakfast fare will be provided. </span><br />\n<br />\n&nbsp\;
LOCATION:Chamber Offices 109 N Broad Street Lancaster\, OH 43130
UID:e.3121.749
SEQUENCE:3
DTSTAMP:20260420T022025Z
URL:https://business.lancoc.org/events/details/2021-annual-board-meeting-member-invitation-749
END:VEVENT

END:VCALENDAR
