BEGIN:VCALENDAR
VERSION:2.0
PRODID:-//ChamberMaster//Event Calendar 2.0//EN
METHOD:PUBLISH
X-PUBLISHED-TTL:P3D
REFRESH-INTERVAL:P3D
CALSCALE:GREGORIAN
BEGIN:VEVENT
DTSTART:20201028T200000Z
DTEND:20201028T220000Z
X-MICROSOFT-CDO-ALLDAYEVENT:FALSE
SUMMARY:2020 Virtually Live Annual Awards Ceremony
DESCRIPTION:Join us on October 28th at 4PM for a live Happy Hour broadcast of our annual awards ceremony.\n\n \n\nEvery award presented on this night will be a surprise to the membership and the public.\n\n \n\nSo tune in at this LINK and see if your favorite Chamber members and community leaders are recognized with one of the Chamber's long standing awards.\n\n\n\nViewing information to come.\n\n\n\nRegister and include your email to be notified when viewing information is available.
X-ALT-DESC;FMTTYPE=text/html:<p style="color: rgb(32\, 31\, 30)\; background-color: rgb(255\, 255\, 255)\; font-size: 11pt\; font-family: Calibri\, sans-serif\; margin: 0px\;"><span style="font-size:18px\;">Join us on October 28<sup>th</sup>&nbsp\;at 4PM for a live Happy Hour broadcast of our annual awards ceremony.</span><br />\n&nbsp\;</p>\n\n<p style="color: rgb(32\, 31\, 30)\; background-color: rgb(255\, 255\, 255)\; font-size: 11pt\; font-family: Calibri\, sans-serif\; margin: 0px\;"><span style="font-size:18px\;">Every award presented on this night will be a surprise to the membership and the public.</span></p>\n\n<p style="color: rgb(32\, 31\, 30)\; background-color: rgb(255\, 255\, 255)\; font-size: 11pt\; font-family: Calibri\, sans-serif\; margin: 0px\;">&nbsp\;</p>\n\n<p style="color: rgb(32\, 31\, 30)\; background-color: rgb(255\, 255\, 255)\; font-size: 11pt\; font-family: Calibri\, sans-serif\; margin: 0px\;"><span style="font-size:18px\;">So tune in at this <u><strong><a href="https://boxcast.tv/view/2020-virtual-chamber-awards-program-987914"><span style="color:#B22222\;">LINK</span></a></strong></u> and see if your favorite Chamber members and community leaders are recognized with one of the Chamber&#39\;s long standing awards.<br />\n<br />\nViewing information to come.<br />\n<br />\nRegister and include your email to be notified when viewing information is available.</span></p>\n
LOCATION:This is a virtual event. LIVE LINK
UID:e.3121.473
SEQUENCE:3
DTSTAMP:20260423T092807Z
URL:https://business.lancoc.org/events/details/2020-virtually-live-annual-awards-ceremony-473
END:VEVENT

END:VCALENDAR
