BEGIN:VCALENDAR
VERSION:2.0
PRODID:-//ChamberMaster//Event Calendar 2.0//EN
METHOD:PUBLISH
X-PUBLISHED-TTL:P3D
REFRESH-INTERVAL:P3D
CALSCALE:GREGORIAN
BEGIN:VEVENT
DTSTART:20200402T153000Z
DTEND:20200402T170000Z
X-MICROSOFT-CDO-ALLDAYEVENT:FALSE
SUMMARY:2020 State of the Schools THIS EVENT HAS BEEN POSTPONED
DESCRIPTION:THIS EVENT HAS BEEN POSTPONED\n\nJoin us for an update on local schools.
X-ALT-DESC;FMTTYPE=text/html:<h1><span style="color:#B22222\;"><strong><span style="font-family:arial\;"><span style="font-size:14px\;">THIS EVENT HAS BEEN POSTPONED</span></span></strong></span><br />\n<span style="font-size:16px\;"><span style="color:#0E165F\;">Join us for an update on local schools.</span></span></h1>\n
LOCATION:Stanbery School 315 E. Mulberry Street Lancaster
UID:e.3121.436
SEQUENCE:3
DTSTAMP:20260423T141011Z
URL:https://business.lancoc.org/events/details/2020-state-of-the-schools-this-event-has-been-postponed-436
END:VEVENT

END:VCALENDAR
