BEGIN:VCALENDAR
VERSION:2.0
PRODID:-//ChamberMaster//Event Calendar 2.0//EN
METHOD:PUBLISH
X-PUBLISHED-TTL:P3D
REFRESH-INTERVAL:P3D
CALSCALE:GREGORIAN
BEGIN:VEVENT
DTSTART:20200227T123000Z
DTEND:20200227T143000Z
X-MICROSOFT-CDO-ALLDAYEVENT:FALSE
SUMMARY:2020 State of the City
DESCRIPTION:Join us for an Update on the City of Lancaster.
X-ALT-DESC;FMTTYPE=text/html:<h1><span style="font-size:16px\;"><span style="color:#0E165F\;">Join us for an Update on the City of Lancaster.</span></span></h1>\n
LOCATION:Crossroads Event Center 2095 W Fair Avenue Lancaster
UID:e.3121.412
SEQUENCE:3
DTSTAMP:20260423T191739Z
URL:https://business.lancoc.org/events/details/2020-state-of-the-city-412
END:VEVENT

END:VCALENDAR
