BEGIN:VCALENDAR
VERSION:2.0
PRODID:-//ChamberMaster//Event Calendar 2.0//EN
METHOD:PUBLISH
X-PUBLISHED-TTL:P3D
REFRESH-INTERVAL:P3D
CALSCALE:GREGORIAN
BEGIN:VEVENT
DTSTART:20200319T120000Z
DTEND:20200319T133000Z
X-MICROSOFT-CDO-ALLDAYEVENT:FALSE
SUMMARY:2020 Small Business University Seminar: Time Management has been replaced
DESCRIPTION:Master Your Time Management has been replaced\n\n\n\nManage yourself\, not your time. Learn how to use your time to your advantage\, how to budget your time\, and how to achieve focus with proven tools\, techniques\, and strategies. A perfect reminder of how to get your time under control and how to run your schedule instead of it running you!\n\n \n\nYou will learn:\n\n	The "Five Stages of Managing Workflow"\n	 How to productively and effectively implement the "10 Time Management Techniques Worth Using" in any business \n	How to effectively plan and schedule activities around cash flow-generating and profit-making activities in any business\n	 How to use and effectively implement a Default Calendar \n\nOur Trainers:\n\n    Heather Yakes is an internationally recognized business coach ranking in the Top 10 in the U.S. & Top 25 worldwide an employee engagement expert\, one of only 10 Adding Zeros Licensed Facilitators worldwide\, and the owner of an award-winning ActionCOACH Business Coaching firm in Lancaster. Heather has led multi-billion-dollar companies in strategy\, growth\, sales\, marketing\, operations\, and team building\, and she now specializes in working with business owners\, executives\, and their teams to achieve record-high performance and profits. \n\n  Brittany Douglass is a Certified Business Coach with ActionCOACH Business Coaching. Brittany has led both large corporate-structured companies and small\, independently owned organizations in business development\, growth\, sales\, customer experience\, and team building. She now specializes in helping small business owners grow their businesses and achieve the next level of success. Her clients experience double-digit growth in profitability by focusing on strategic planning\, systems development\, sales\, marketing\, and team engagement. The mission of the ActionCOACH Central Ohio team is to make a difference in the community one business at a time.
X-ALT-DESC;FMTTYPE=text/html:<strong><span style="color:#3158AC\;"><span style="font-size:15.0pt\;">Master Your Time Management </span></span></strong><em><span style="color:#B22222\;"><span style="font-size:15.0pt\;">has been replaced</span></span></em><br />\n<br />\n<span style="color:#403F42\;"><span style="font-size:12.0pt\;">Manage yourself\, not your time. Learn how to use your time to your advantage\, how to budget your time\, and how to achieve focus with proven tools\, techniques\, and strategies. A perfect reminder of how to get your time under control and how to run your schedule instead of it running you!</span></span><br />\n&nbsp\;<br />\n<strong><span style="color:#403F42\;"><span style="font-size:12.0pt\;">You will learn:</span></span></strong>\n<ul>\n	<li><span style="color:#403F42\;"><span style="font-size:12.0pt\;">The &ldquo\;Five Stages of Managing Workflow&rdquo\;</span></span></li>\n	<li>&nbsp\;<span style="color:#403F42\;"><span style="font-size:12.0pt\;">How to productively and effectively implement the &ldquo\;10 Time Management Techniques Worth Using&rdquo\; in any business</span></span>&nbsp\;</li>\n	<li><span style="color:#403F42\;"><span style="font-size:12.0pt\;">How to effectively plan and schedule activities <span style="font-size:16px\;"><span style="font-family:arial\;">ar</span></span>ound cash flow-generating and profit-making activities in any business</span></span></li>\n	<li>&nbsp\;<span style="font-size:16px\;"><span style="font-family:arial\;"><span style="color:#403F42\;">How to use and effectively implement a Default Calendar </span></span></span></li>\n</ul>\n<strong><span style="font-size:16px\;"><span style="font-family:arial\;"><span style="color:#403F42\;">Our Trainers:</span></span></span></strong><br />\n<span style="font-size:14px\;"><span style="font-family:arial\;">&nbsp\;&nbsp\;&nbsp\; <strong>Heather Yakes</strong> <span style="color:#403F42\;">is an internationally recognized business coach&mdash\;ranking in the Top 10 in the U.S. &amp\; Top 25 worldwide&mdash\;an employee engagement expert\, one of only 10 Adding Zeros Licensed Facilitators worldwide\, and the owner of an award-winning ActionCOACH Business Coaching firm in Lancaster. Heather has led multi-billion-dollar companies in strategy\, growth\, sales\, marketing\, operations\, and team building\, and she now specializes in working with business owners\, executives\, and their teams to achieve record-high performance and profits.&nbsp\;</span></span></span><br />\n<span style="color:#403F42\;">&nbsp\;<span style="font-family:arial\;"><span style="font-size:14px\;"><strong> Brittany Douglass</strong> is a Certified Business Coach with ActionCOACH Business Coaching. Brittany has led both large corporate-structured companies and small\, independently owned organizations in business development\, growth\, sales\, customer experience\, and team building. She now specializes in helping small business owners grow their businesses and achieve the next level of success. Her clients experience double-digit growth in profitability by focusing on strategic planning\, systems development\, sales\, marketing\, and team engagement. The mission of the ActionCOACH Central Ohio team is to make a difference in the community one business at a time.</span></span></span>
LOCATION:Lancaster/Fairfield County Chamber of Commerce Conference Room 109 N. Broad Street\, Suite 100 Lancaster\, Ohio
UID:e.3121.433
SEQUENCE:3
DTSTAMP:20260423T154323Z
URL:https://business.lancoc.org/events/details/2020-small-business-university-seminar-time-management-has-been-replaced-433
END:VEVENT

END:VCALENDAR
