BEGIN:VCALENDAR
VERSION:2.0
PRODID:-//ChamberMaster//Event Calendar 2.0//EN
METHOD:PUBLISH
X-PUBLISHED-TTL:P3D
REFRESH-INTERVAL:P3D
CALSCALE:GREGORIAN
BEGIN:VEVENT
DTSTART:20200319T160000Z
DTEND:20200319T170000Z
X-MICROSOFT-CDO-ALLDAYEVENT:FALSE
SUMMARY:2020 SBU Seminar: 11 Critical Steps You Must Do Now To Protect Your Business Through Crisis
DESCRIPTION:11 Critical Steps You Must Do Now To Protect Your Business Through Crisis \n\n\n\nAs a fellow Chamber member\, you are personally invited to attend this time-critical webinar to assist you in shifting and adapting your business to the changing economic climate based on the global pandemic of Coronavirus.  Free but register HERE to get the logon. \n\n\n\n\n\nYou will learn: \n\n	How to move from chaos to control through systematizing and planning.\n	The top 4 areas you need to master in order to adapt to the changing situation and to be able to make decisions quickly.\n	How to re-define your marketing message and continue attracting business in order to stay profitable. \n	Effective and essential ways to lead and communicate with your team in order to keep them informed and engaged. \n\n\n\n\nOur Trainer:\n\n    Heather Yakes is an internationally recognized business coach ranking in the Top 10 in the U.S. & Top 25 worldwide an employee engagement expert\, one of only 10 Adding Zeros Licensed Facilitators worldwide\, and the owner of an award-winning ActionCOACH Business Coaching firm in Lancaster. Heather has led multi-billion-dollar companies in strategy\, growth\, sales\, marketing\, operations\, and team building\, and she now specializes in working with business owners\, executives\, and their teams to achieve record-high performance and profits.
X-ALT-DESC;FMTTYPE=text/html:<br />\n<strong><span style="color:#3158AC\;"><span style="font-size:15.0pt\;"><em>11 Critical Steps You Must Do Now To Protect Your Business Through Crisis </em></span></span></strong><br />\n<br />\n<span style="font-size:16px\;"><span style="font-family:arial\;"><span style="color:#403F42\;">As a fellow Chamber member\, you are personally invited to attend this time-critical webinar to assist you in shifting and adapting your business to the changing economic climate based on the global pandemic of Coronavirus.&nbsp\; Free but register </span><u><a href="https://c0knp0py.pages.infusionsoft.net/"><span style="color:#66cc33\;">HERE</span></a></u><span style="color:#403F42\;"> to get the logon. </span></span></span><br />\n<br />\n<br />\n<strong><span style="font-size:16px\;"><span style="font-family:arial\;"><span style="color:#403F42\;"><span style="font-size:14px\;">You will learn: </span></span></span></span></strong>\n<ul>\n	<li><span style="font-size:14px\;"><span style="font-family:arial\;"><span style="color:#403F42\;">How to move from chaos to control through systematizing and planning.</span></span></span></li>\n	<li><span style="font-size:14px\;"><span style="font-family:arial\;"><span style="color:#403F42\;">The top 4 areas you need to master in order to adapt to the changing situation and to be able to make decisions quickly.</span></span></span></li>\n	<li><span style="font-size:16px\;"><span style="font-family:arial\;"><span style="color:#403F42\;"><span style="font-size:14px\;">How to re-define your marketing message and continue attracting business in order to stay profitable. </span></span></span></span></li>\n	<li><span style="font-size:16px\;"><span style="font-family:arial\;"><span style="color:#403F42\;"><span style="font-size:14px\;">Effective and essential ways to lead and communicate with your team in order to keep them informed and engaged</span>. </span></span></span></li>\n</ul>\n\n<p><br />\n<strong><span style="font-size:16px\;"><span style="font-family:arial\;"><span style="color:#403F42\;">Our Trainer:</span></span></span></strong><br />\n<span style="font-size:14px\;"><span style="font-family:arial\;">&nbsp\;&nbsp\;&nbsp\; <strong>Heather Yakes</strong> <span style="color:#403F42\;">is an internationally recognized business coach&mdash\;ranking in the Top 10 in the U.S. &amp\; Top 25 worldwide&mdash\;an employee engagement expert\, one of only 10 Adding Zeros Licensed Facilitators worldwide\, and the owner of an award-winning ActionCOACH Business Coaching firm in Lancaster. Heather has led multi-billion-dollar companies in strategy\, growth\, sales\, marketing\, operations\, and team building\, and she now specializes in working with business owners\, executives\, and their teams to achieve record-high performance and profits.&nbsp\;</span></span></span><br />\n<span style="color:#403F42\;">&nbsp\;</span></p>\n
LOCATION:Free Online Webinar
UID:e.3121.440
SEQUENCE:3
DTSTAMP:20260423T173244Z
URL:https://business.lancoc.org/events/details/2020-sbu-seminar-11-critical-steps-you-must-do-now-to-protect-your-business-through-crisis-440
END:VEVENT

END:VCALENDAR
