BEGIN:VCALENDAR
VERSION:2.0
PRODID:-//ChamberMaster//Event Calendar 2.0//EN
METHOD:PUBLISH
X-PUBLISHED-TTL:P3D
REFRESH-INTERVAL:P3D
CALSCALE:GREGORIAN
BEGIN:VEVENT
DTSTART:20201027T200000Z
DTEND:20201027T220000Z
X-MICROSOFT-CDO-ALLDAYEVENT:FALSE
SUMMARY:2020 Cruise-Thru Trade Show - REGISTER NOW!
DESCRIPTION:Register Now For the 2020 Cruise-Thru Trade Show!\n\nThe entire community is invited to visit our participating chamber members to learn about their products and services.\n\n\n\nChamber members are encouraged to reserve a 10 x 10 foot section for $120 OR a 10 x 20 foot section for $240 by completing and returning THIS FORM. \n\nWe do NOT supply tables or tents for the trade show. You are welcome to bring your own table and tent or these  may be rented from Personal Touch Party Rentals at 740-689-6991 or Taylor Rental Party Plus at 740-994-4374.\n\n\n\nSee all trade show PROTOCOLS HERE.\n\n\n\nVISITOR GUIDLINES HERE.\n\n\n\nCancellation policy:  To avoid incurring a charge\, your reservation must be cancelled at least 72 hours prior to the event.
X-ALT-DESC;FMTTYPE=text/html:<br />\n<span style="font-size:16px\;"><span style="font-family:verdana\;"><span style="color:black\;"><strong>Register Now For the 2020 Cruise-Thru Trade Show!</strong></span></span></span><br />\n<span style="font-size:18px\;"><span style="font-family:arial narrow\,sans-serif\;">The entire community is invited to visit our participating chamber members to learn about their products and services.<br />\n<br />\nChamber members are encouraged to reserve a 10 x 10 foot section for $120 OR a 10 x 20 foot section for $240 by completing and returning </span><a href="https://chambermaster.blob.core.windows.net/userfiles/UserFiles/chambers/3121/File/Cruise-ThruTradeShowregistrationformUpdatemd.docx"><span style="color:#ff9999\;"><span style="font-family:calibri\,sans-serif\;"><strong>THIS FORM</strong>. </span></span></a><br />\n<span style="font-family:arial narrow\,sans-serif\;">We do NOT supply tables or tents for the trade show. You are welcome to bring your own table and tent or these&nbsp\; may be rented from Personal&nbsp\;Touch Party Rentals at 740-689-6991 or Taylor Rental Party Plus at 740-994-4374.<br />\n<br />\nSee all trade&nbsp\;</span></span><span style="font-size:18px\;"><span style="font-family:arial narrow\,sans-serif\;">show <strong><a href="https://chambermaster.blob.core.windows.net/userfiles/UserFiles/chambers/3121/File/Cruise-ThruTradeShowProtocols.docx"><span style="color:#ff9999\;">PROTOCOLS HERE</span></a><span style="color:#ff9999\;">.<br />\n<br />\n<a href="https://chambermaster.blob.core.windows.net/userfiles/UserFiles/chambers/3121/File/Cruise-ThruGuidlines20.pdf">VISITOR GUIDLINES HERE.</a></span></strong></span><br />\n<br />\n<span style="color:#ff9999\;"><span style="font-family:arial\;"><em>Cancellation&nbsp\;policy: &nbsp\;To avoid incurring a charge\, your reservation&nbsp\;<strong>must be&nbsp\;cancelled&nbsp\;at least 72 hours prior to the event</strong>. </em></span></span></span><br />\n&nbsp\;
LOCATION:Fairfield County Fairgrounds 157 E. Fair Avenue Lancaster\, OH 43130
UID:e.3121.417
SEQUENCE:3
DTSTAMP:20260423T054619Z
URL:https://business.lancoc.org/events/details/2020-cruise-thru-trade-show-register-now-417
END:VEVENT

END:VCALENDAR
