BEGIN:VCALENDAR
VERSION:2.0
PRODID:-//ChamberMaster//Event Calendar 2.0//EN
METHOD:PUBLISH
X-PUBLISHED-TTL:P3D
REFRESH-INTERVAL:P3D
CALSCALE:GREGORIAN
BEGIN:VEVENT
DTSTART:20201215T140000Z
DTEND:20201215T150000Z
X-MICROSOFT-CDO-ALLDAYEVENT:FALSE
SUMMARY:2020 Annual Virtual Board Meeting: Member Invitation
DESCRIPTION:Please Join Us at the Board of Directors' Final Meeting of 2020\n\nJoin us as we cover the regular agenda of the Chamber board meeting including the slate of board members and the appointment of officers for 2021.
X-ALT-DESC;FMTTYPE=text/html:<span style="font-size:18px\;"><strong>Please Join Us at the Board of Directors&#39\; Final Meeting of 2020</strong></span><br />\n<span style="font-size:18px\;">Join us as we cover the regular agenda of the Chamber board meeting including the slate of board members and the appointment of officers for 2021.</span><br />\n<br />\n&nbsp\;
LOCATION:In the comfort of your own business or home\, via Zoom. Zoom link will be sent the day prior.
UID:e.3121.486
SEQUENCE:3
DTSTAMP:20260423T001120Z
URL:https://business.lancoc.org/events/details/2020-annual-virtual-board-meeting-member-invitation-486
END:VEVENT

END:VCALENDAR
