BEGIN:VCALENDAR
VERSION:2.0
PRODID:-//ChamberMaster//Event Calendar 2.0//EN
METHOD:PUBLISH
X-PUBLISHED-TTL:P3D
REFRESH-INTERVAL:P3D
CALSCALE:GREGORIAN
BEGIN:VEVENT
DTSTART;VALUE=DATE:20200925
DTEND;VALUE=DATE:20200926
TRANSP:TRANSPARENT
X-MICROSOFT-CDO-ALLDAYEVENT:TRUE
SUMMARY:2020 Annual Chamber Golf Outing - September 25th
DESCRIPTION:2020 Lancaster Fairfield County Chamber Annual Golf Outing - September 25th
X-ALT-DESC;FMTTYPE=text/html:2020 Lancaster Fairfield County Chamber Annual Golf Outing - September 25th<br />\n&nbsp\;
LOCATION:Valley View Golf Course 1511 George Road NE Lancaster\, OH 43130
UID:e.3121.452
SEQUENCE:3
DTSTAMP:20260423T104719Z
URL:https://business.lancoc.org/events/details/2020-annual-chamber-golf-outing-september-25th-452
END:VEVENT

END:VCALENDAR
