BEGIN:VCALENDAR
VERSION:2.0
PRODID:-//ChamberMaster//Event Calendar 2.0//EN
METHOD:PUBLISH
X-PUBLISHED-TTL:P3D
REFRESH-INTERVAL:P3D
CALSCALE:GREGORIAN
BEGIN:VEVENT
DTSTART:20190924T200000Z
DTEND:20190924T220000Z
X-MICROSOFT-CDO-ALLDAYEVENT:FALSE
SUMMARY:2019 Member-Appreciation Happy Hour
DESCRIPTION:Member-Appreciation Happy Hour\n\nNetworking Opportunity for Lancaster/Fairfield County\n\nChamber of Commerce Members\n\n\n\nWe will provide the food\, fresh from Bay Food Market\,\n\nwhile you choose from a variety of amazing beverages\n\nfrom the folks at Rockside.  The first drink is on us!\n\n\n\nPlease register online by Friday\, September 20th\,\n\nso we can plan appropriately.
X-ALT-DESC;FMTTYPE=text/html:<span style="color: rgb(51\, 51\, 51)\; font-family: sans-serif\, Arial\, Verdana\, &quot\;Trebuchet MS&quot\;\; font-size: 16px\;"><strong>Member-Appreciation Happy Hour</strong></span><br style="color: rgb(51\, 51\, 51)\; font-family: sans-serif\, Arial\, Verdana\, &quot\;Trebuchet MS&quot\;\; font-size: 13px\;" />\n<span style="font-size:14px\;"><span style="color: rgb(51\, 51\, 51)\; font-family: sans-serif\, Arial\, Verdana\, &quot\;Trebuchet MS&quot\;\; background-color: rgb(255\, 255\, 255)\;">Networking Opportunity for Lancaster/Fairfield County</span><br style="color: rgb(51\, 51\, 51)\; font-family: sans-serif\, Arial\, Verdana\, &quot\;Trebuchet MS&quot\;\; font-size: 13px\;" />\n<span style="color: rgb(51\, 51\, 51)\; font-family: sans-serif\, Arial\, Verdana\, &quot\;Trebuchet MS&quot\;\; background-color: rgb(255\, 255\, 255)\;">Chamber of Commerce Members<br />\n<br />\nWe will provide the food\, fresh from Bay Food Market\,</span><br style="color: rgb(51\, 51\, 51)\; font-family: sans-serif\, Arial\, Verdana\, &quot\;Trebuchet MS&quot\;\; font-size: 13px\;" />\n<span style="color: rgb(51\, 51\, 51)\; font-family: sans-serif\, Arial\, Verdana\, &quot\;Trebuchet MS&quot\;\; background-color: rgb(255\, 255\, 255)\;">while you choose from a variety of amazing beverages</span><br style="color: rgb(51\, 51\, 51)\; font-family: sans-serif\, Arial\, Verdana\, &quot\;Trebuchet MS&quot\;\; font-size: 13px\;" />\n<span style="color: rgb(51\, 51\, 51)\; font-family: sans-serif\, Arial\, Verdana\, &quot\;Trebuchet MS&quot\;\; background-color: rgb(255\, 255\, 255)\;">from the folks at Rockside.&nbsp\; </span><span style="color:#B22222\;"><span style="font-family: sans-serif\, Arial\, Verdana\, &quot\;Trebuchet MS&quot\;\; background-color: rgb(255\, 255\, 255)\;">The first drink is on us!</span></span></span><br />\n<br />\n<strong style="color: rgb(51\, 51\, 51)\; font-family: sans-serif\, Arial\, Verdana\, &quot\;Trebuchet MS&quot\;\; font-size: 13px\;"><span style="font-size: 14px\;"><span style="background-color: rgb(255\, 255\, 255)\;">Please register online by Friday\, September&nbsp\;</span></span></strong><strong><span style="font-size: 14px\;">20th</span></strong><strong style="color: rgb(51\, 51\, 51)\; font-family: sans-serif\, Arial\, Verdana\, &quot\;Trebuchet MS&quot\;\; font-size: 13px\;"><span style="font-size: 14px\;"><span style="background-color: rgb(255\, 255\, 255)\;">\,<br />\nso we can plan appropriately.</span></span></strong>
LOCATION:Rockside Winery and Vineyards 2363 Lancaster-Newark Road Lancaster\, Ohio 43130
UID:e.3121.335
SEQUENCE:3
DTSTAMP:20260424T030007Z
URL:https://business.lancoc.org/events/details/2019-member-appreciation-happy-hour-335
END:VEVENT

END:VCALENDAR
