BEGIN:VCALENDAR
VERSION:2.0
PRODID:-//ChamberMaster//Event Calendar 2.0//EN
METHOD:PUBLISH
X-PUBLISHED-TTL:P3D
REFRESH-INTERVAL:P3D
CALSCALE:GREGORIAN
BEGIN:VEVENT
DTSTART:20191106T163000Z
DTEND:20191106T180000Z
X-MICROSOFT-CDO-ALLDAYEVENT:FALSE
SUMMARY:2019 Chamber Cafe: No-Cost Services to Move Your Small Business Forward
DESCRIPTION:Join us at the next Chamber Cafe Series to hear information on no-cost services available to assist your small business.  Topics include how to obtain assistance with:  Market Research - Financial Analysis - Finding Opportunities - Registrations/Certifications - How to Sell Your Products/Services to Local\, State & Federal Government.\n\n\n\nSpeakers:\n\nErin Gibson is a Certified Business Advisor with the Small Business Development Center (SBDC) at Ohio University.\n\n\n\nMike Blythe is a Procurement Specialist with the Ohio University Procurement Technical Assistance Center (PTAC).
X-ALT-DESC;FMTTYPE=text/html:Join us at the next Chamber Cafe Series to hear information on no-cost services available to assist your small business.&nbsp\; Topics include how to obtain assistance with:&nbsp\; Market Research - Financial Analysis - Finding Opportunities - Registrations/Certifications - How to Sell Your Products/Services to Local\, State &amp\; Federal Government.<br />\n<br />\nSpeakers:<br />\n<strong>Erin Gibson</strong> is a Certified Business Advisor with the Small Business Development Center (SBDC) at Ohio University.<br />\n<br />\n<strong>Mike Blythe </strong>is a Procurement Specialist with the Ohio University Procurement Technical Assistance Center (PTAC).<br />\n&nbsp\;
LOCATION:The Ale House 1890 149 W. Main Street Lancaster\, Ohio 43130
UID:e.3121.369
SEQUENCE:3
DTSTAMP:20260423T230108Z
URL:https://business.lancoc.org/events/details/2019-chamber-cafe-no-cost-services-to-move-your-small-business-forward-369
END:VEVENT

END:VCALENDAR
