BEGIN:VCALENDAR
VERSION:2.0
PRODID:-//ChamberMaster//Event Calendar 2.0//EN
METHOD:PUBLISH
X-PUBLISHED-TTL:P3D
REFRESH-INTERVAL:P3D
CALSCALE:GREGORIAN
BEGIN:VEVENT
DTSTART:20191204T163000Z
DTEND:20191204T180000Z
X-MICROSOFT-CDO-ALLDAYEVENT:FALSE
SUMMARY:2019 Chamber Cafe: Accomplishments & What's on the Horizon for 2020 by President\, Travis Markwood
DESCRIPTION:The end of the year is quickly approaching for the Chamber so we thought it would be a good time to provide some updates. Join us at the next Caf  Series Luncheon to hear from Chamber President\, Travis Markwood\, as he provides a brief re-cap of 2019 and shares some very exciting news for 2020. Topics will include new programs for 2020\, BIG changes to several long-standing annual events and an overview of the much anticipated BRAND NEW member benefit structure.
X-ALT-DESC;FMTTYPE=text/html:<span style="color:#595959\;"><span style="font-family:calibri\,sans-serif\;"><span style="font-size:18.0pt\;">The end of the year is quickly approaching for the Chamber so we thought it would be a good time to provide some updates. Join us at the next Caf&eacute\; Series Luncheon to hear from Chamber President\, Travis Markwood\, as he provides a brief re-cap of 2019 and shares some very exciting news for 2020. Topics will include new programs for 2020\, BIG changes to several long-standing annual events and an overview of the much anticipated BRAND NEW member benefit structure.</span></span></span>
LOCATION:Fairfield County Records Center 138 W. Chestnut Street Lancaster\, Ohio 43130
UID:e.3121.385
SEQUENCE:3
DTSTAMP:20260423T230709Z
URL:https://business.lancoc.org/events/details/2019-chamber-cafe-accomplishments-what-s-on-the-horizon-for-2020-by-president-travis-markwood-385
END:VEVENT

END:VCALENDAR
