BEGIN:VCALENDAR
VERSION:2.0
PRODID:-//ChamberMaster//Event Calendar 2.0//EN
METHOD:PUBLISH
X-PUBLISHED-TTL:P3D
REFRESH-INTERVAL:P3D
CALSCALE:GREGORIAN
BEGIN:VEVENT
DTSTART:20190822T213000Z
DTEND:20190823T003000Z
X-MICROSOFT-CDO-ALLDAYEVENT:FALSE
SUMMARY:2019 Athena Banquet
DESCRIPTION:Celebrating 34 Years of Athena\n\n\n\nATHENA Leadership Award recipients are individuals who: \n\n\n	Have achieved the highest level of professional excellence.\n	Contribute time and energy to improve the quality of life for others in the community.\n	Actively assist others\, particularly women\, in realizing their full leadership potential.\n\nWe are pleased to announce that the award is again being sponsored by the Robert D. McGraw Family. \n\n\n\nLancaster Country Club\n\n$40.00 per person for dinner\, tables of 8 available - $320.00\n\nReservations are due by Friday\, August 16\, 2019.
X-ALT-DESC;FMTTYPE=text/html:<div><br />\n<span style="font-size:20px\;"><strong><span style="color:#003893\;"><span style="font-family:palatino linotype\,serif\;">Celebrating 34 Years of Athena</span></span></strong></span><br />\n<br />\n<span style="font-size: 18px\; color: rgb(0\, 56\, 147)\; font-weight: bold\; font-family: Calibri\, Helvetica\, Arial\, sans-serif\;">ATHENA Leadership Award recipients are individuals who:</span><span style="font-size: 14px\; color: rgb(0\, 56\, 147)\; font-family: Calibri\, Helvetica\, Arial\, sans-serif\; font-weight: bold\;">&#65279\;</span></div>\n\n<ul>\n	<li style="font-size: 16px\; color: rgb(0\, 56\, 147)\;"><span style="font-size: 16px\; color: rgb(0\, 56\, 147)\; font-family: Calibri\, Helvetica\, Arial\, sans-serif\;">Have achieved the highest level of professional excellence.</span></li>\n	<li style="font-size: 16px\; color: rgb(0\, 56\, 147)\;"><span style="font-size: 16px\; color: rgb(0\, 56\, 147)\; font-family: Calibri\, Helvetica\, Arial\, sans-serif\;">Contribute time and energy to improve the quality of life for others in the community.</span></li>\n	<li style="font-size: 16px\; color: rgb(0\, 56\, 147)\;"><span style="font-size: 16px\; color: rgb(0\, 56\, 147)\; font-family: Calibri\, Helvetica\, Arial\, sans-serif\;">Actively assist others\, particularly women\, in realizing their full leadership potential.</span></li>\n</ul>\n<span style="font-size:16px\;"><span style="color:#003893\;">We are pleased to announce that the award is again being sponsored by the Robert D. McGraw Family.</span>&nbsp\;</span><br />\n<br />\n<span style="font-size:14px\;"><span style="font-family:arial\;"><span style="color:#333333\;">Lancaster Country Club</span><br />\n<span style="border:none windowtext 1.0pt\;padding:0in\;background:white\;"><span style="color:#333333\;">$40.00 per person for dinner\, tables of 8 available - $320.00</span></span><br />\n<span style="color:#333333\;"><span style="border:none windowtext 1.0pt\;padding:0in\;background:white\;">Reservations are due by Friday\, August 16\, 2019.</span></span></span></span><br />\n<br />\n&nbsp\;
LOCATION:Lancaster Country Club 3100 Country Club Road Lancaster\, Ohio 43130
UID:e.3121.308
SEQUENCE:3
DTSTAMP:20260424T080152Z
URL:https://business.lancoc.org/events/details/2019-athena-banquet-308
END:VEVENT

END:VCALENDAR
