BEGIN:VCALENDAR
VERSION:2.0
PRODID:-//ChamberMaster//Event Calendar 2.0//EN
METHOD:PUBLISH
X-PUBLISHED-TTL:P3D
REFRESH-INTERVAL:P3D
CALSCALE:GREGORIAN
BEGIN:VEVENT
DTSTART:20191108T223000Z
DTEND:20191109T010000Z
X-MICROSOFT-CDO-ALLDAYEVENT:FALSE
SUMMARY:1st Annual Lancaster Kidsfest
DESCRIPTION:600+ expected at this fun\, free community festival for families.   \n\nFree activities from bounce houses\, mini golf\, face painter\, balloon artist\n\nFree pizza/popcorn/cotton candy/grilled cheese and more!
X-ALT-DESC;FMTTYPE=text/html:<div style="color:#333333\;margin-bottom:0in\;margin-left:0in\;margin-bottom:.0001pt\;line-height:normal\;"><span style="font-family:arial\,sans-serif\;"><span style="font-size:10.0pt\;">600+ expected at this fun\, free community festival for families.&nbsp\; &nbsp\;<br />\nFree activities from bounce houses\, mini golf\, face painter\, balloon artist<br />\nFree pizza/popcorn/cotton candy/grilled cheese and more!</span></span></div>\n
LOCATION:Mount Pleasant Elementary School 712 N. Broad Street Lancaster\, Ohio 43130
UID:e.3121.368
SEQUENCE:3
DTSTAMP:20260424T024141Z
URL:https://business.lancoc.org/events/details/1st-annual-lancaster-kidsfest-368
END:VEVENT

END:VCALENDAR
